BEGIN:VCALENDAR
VERSION:2.0
PRODID:-//Vioolles - ECPv6.15.13.1//NONSGML v1.0//EN
CALSCALE:GREGORIAN
METHOD:PUBLISH
X-WR-CALNAME:Vioolles
X-ORIGINAL-URL:https://vioolles.info
X-WR-CALDESC:Evenementen voor Vioolles
REFRESH-INTERVAL;VALUE=DURATION:PT1H
X-Robots-Tag:noindex
X-PUBLISHED-TTL:PT1H
BEGIN:VTIMEZONE
TZID:Europe/Amsterdam
BEGIN:DAYLIGHT
TZOFFSETFROM:+0100
TZOFFSETTO:+0200
TZNAME:CEST
DTSTART:20180325T010000
END:DAYLIGHT
BEGIN:STANDARD
TZOFFSETFROM:+0200
TZOFFSETTO:+0100
TZNAME:CET
DTSTART:20181028T010000
END:STANDARD
BEGIN:DAYLIGHT
TZOFFSETFROM:+0100
TZOFFSETTO:+0200
TZNAME:CEST
DTSTART:20190331T010000
END:DAYLIGHT
BEGIN:STANDARD
TZOFFSETFROM:+0200
TZOFFSETTO:+0100
TZNAME:CET
DTSTART:20191027T010000
END:STANDARD
BEGIN:DAYLIGHT
TZOFFSETFROM:+0100
TZOFFSETTO:+0200
TZNAME:CEST
DTSTART:20200329T010000
END:DAYLIGHT
BEGIN:STANDARD
TZOFFSETFROM:+0200
TZOFFSETTO:+0100
TZNAME:CET
DTSTART:20201025T010000
END:STANDARD
BEGIN:DAYLIGHT
TZOFFSETFROM:+0100
TZOFFSETTO:+0200
TZNAME:CEST
DTSTART:20210328T010000
END:DAYLIGHT
BEGIN:STANDARD
TZOFFSETFROM:+0200
TZOFFSETTO:+0100
TZNAME:CET
DTSTART:20211031T010000
END:STANDARD
BEGIN:DAYLIGHT
TZOFFSETFROM:+0100
TZOFFSETTO:+0200
TZNAME:CEST
DTSTART:20220327T010000
END:DAYLIGHT
BEGIN:STANDARD
TZOFFSETFROM:+0200
TZOFFSETTO:+0100
TZNAME:CET
DTSTART:20221030T010000
END:STANDARD
BEGIN:DAYLIGHT
TZOFFSETFROM:+0100
TZOFFSETTO:+0200
TZNAME:CEST
DTSTART:20230326T010000
END:DAYLIGHT
BEGIN:STANDARD
TZOFFSETFROM:+0200
TZOFFSETTO:+0100
TZNAME:CET
DTSTART:20231029T010000
END:STANDARD
END:VTIMEZONE
BEGIN:VEVENT
DTSTART;TZID=Europe/Amsterdam:20221111T180000
DTEND;TZID=Europe/Amsterdam:20221111T190000
DTSTAMP:20260420T204206
CREATED:20190821T131225Z
LAST-MODIFIED:20220324T100206Z
UID:4991-1668189600-1668193200@vioolles.info
SUMMARY:Sint Maarten lopen
DESCRIPTION:Groep 1  en 2 en wie verder wil  kome om 18 uur\, liefst met knol maar alleen zingen kan ook\, hoor! \nOm 18 uur repeteren we eerst even een paar St Maartensliedjes en daarna lopen we zingend door de buurt en halen lekkers op. Gezamelijk peuzelen we dat na de knollensoep op tijdens het luisteren naar het verhaal van Sint Maarten \nEinde rond half 8 De kinderen kunnen dan zo naar bed! met volle magen 🙂 \nLES van groep 3 om 16 uur en groep 4 om 17 uur! \n  \n 
URL:https://vioolles.info/event/sint-maarten-lopen/
CATEGORIES:Graag meedoen,Tutti
ATTACH;FMTTYPE=image/jpeg:https://vioolles.info/wp-content/uploads/2019/06/IMG_7895.jpeg
END:VEVENT
BEGIN:VEVENT
DTSTART;TZID=Europe/Amsterdam:20211223T170000
DTEND;TZID=Europe/Amsterdam:20211223T180000
DTSTAMP:20260420T204206
CREATED:20190821T121444Z
LAST-MODIFIED:20210102T060317Z
UID:4951-1640278800-1640282400@vioolles.info
SUMMARY:Laatste optreden Kerstrepertoire in de Apple Store
DESCRIPTION:Wie op deze Kerstdiners-avond kan is van harte uitgenodigd Kerstliedjes te komen spelen in de Apple Store\, waar jullie juf dit jaar veel geholpen is op digitaal gebied. Helaas wordt deze service niet meer geboden. \nWEL zijn er allerlei workshops\, ook voor kinderen – zeker in die vakanties. \nOns optreden wordt op hoge prijs gesteld. \nHierna begint de Kerstvakantie\, waarin kinderen tot kerst nog  kerstliedjes blijven  spelen? \n 
URL:https://vioolles.info/event/laatste-optreden-kerstrepertoire-in-de-apple-store/
LOCATION:Apple Store Passage\, Passage 39\, 2511 AB Den Haag
CATEGORIES:Graag meedoen
ATTACH;FMTTYPE=image/jpeg:https://vioolles.info/wp-content/uploads/2019/06/IMG_3750.jpeg
END:VEVENT
BEGIN:VEVENT
DTSTART;TZID=Europe/Amsterdam:20190908T140000
DTEND;TZID=Europe/Amsterdam:20190908T150000
DTSTAMP:20260420T204206
CREATED:20190710T151100Z
LAST-MODIFIED:20190914T093555Z
UID:975-1567951200-1567954800@vioolles.info
SUMMARY:Optreden op het UIT festival\, Lange Voorhout
DESCRIPTION:  \n \nLAATSTE NIEUWS : Het KOO  blijkt stand 95 te zijn en staat als het ware tegenover de plek van vorig jaar . Begin van Korte Voorhout achter het vrijmetselarij monument \nWe treffen om twee uur elkaar  ter hoogte van Hotel des Indes\, in de buurt van de Oivaarspas tent\,  bij de stand van het KOO (waardoor ik Ooievaarspas korting kan geven aan kinderen) en spelen van allerlei. Warm aanbevolen. Vanaf groep 2 \nAfzeggen hoeft niet bij dit soort happenings buiten de officiële Suzuki Concerten en Gypsy Academy optredens. Aanmelden graag wel – via de groepsapp – \n 
URL:https://vioolles.info/event/optreden-op-het-uit-festival-lange-voorhout/
CATEGORIES:Graag meedoen,Jaar 2 en hoger,Warm aanbevolen
ATTACH;FMTTYPE=image/jpeg:https://vioolles.info/wp-content/uploads/2019/06/IMG_0486.jpeg
END:VEVENT
END:VCALENDAR