BEGIN:VCALENDAR
VERSION:2.0
PRODID:-//Vioolles - ECPv6.15.13.1//NONSGML v1.0//EN
CALSCALE:GREGORIAN
METHOD:PUBLISH
X-WR-CALNAME:Vioolles
X-ORIGINAL-URL:https://vioolles.info
X-WR-CALDESC:Evenementen voor Vioolles
REFRESH-INTERVAL;VALUE=DURATION:PT1H
X-Robots-Tag:noindex
X-PUBLISHED-TTL:PT1H
BEGIN:VTIMEZONE
TZID:Europe/Amsterdam
BEGIN:DAYLIGHT
TZOFFSETFROM:+0100
TZOFFSETTO:+0200
TZNAME:CEST
DTSTART:20180325T010000
END:DAYLIGHT
BEGIN:STANDARD
TZOFFSETFROM:+0200
TZOFFSETTO:+0100
TZNAME:CET
DTSTART:20181028T010000
END:STANDARD
BEGIN:DAYLIGHT
TZOFFSETFROM:+0100
TZOFFSETTO:+0200
TZNAME:CEST
DTSTART:20190331T010000
END:DAYLIGHT
BEGIN:STANDARD
TZOFFSETFROM:+0200
TZOFFSETTO:+0100
TZNAME:CET
DTSTART:20191027T010000
END:STANDARD
BEGIN:DAYLIGHT
TZOFFSETFROM:+0100
TZOFFSETTO:+0200
TZNAME:CEST
DTSTART:20200329T010000
END:DAYLIGHT
BEGIN:STANDARD
TZOFFSETFROM:+0200
TZOFFSETTO:+0100
TZNAME:CET
DTSTART:20201025T010000
END:STANDARD
BEGIN:DAYLIGHT
TZOFFSETFROM:+0100
TZOFFSETTO:+0200
TZNAME:CEST
DTSTART:20210328T010000
END:DAYLIGHT
BEGIN:STANDARD
TZOFFSETFROM:+0200
TZOFFSETTO:+0100
TZNAME:CET
DTSTART:20211031T010000
END:STANDARD
BEGIN:DAYLIGHT
TZOFFSETFROM:+0100
TZOFFSETTO:+0200
TZNAME:CEST
DTSTART:20220327T010000
END:DAYLIGHT
BEGIN:STANDARD
TZOFFSETFROM:+0200
TZOFFSETTO:+0100
TZNAME:CET
DTSTART:20221030T010000
END:STANDARD
BEGIN:DAYLIGHT
TZOFFSETFROM:+0100
TZOFFSETTO:+0200
TZNAME:CEST
DTSTART:20230326T010000
END:DAYLIGHT
BEGIN:STANDARD
TZOFFSETFROM:+0200
TZOFFSETTO:+0100
TZNAME:CET
DTSTART:20231029T010000
END:STANDARD
END:VTIMEZONE
BEGIN:VEVENT
DTSTART;TZID=Europe/Amsterdam:20190908T140000
DTEND;TZID=Europe/Amsterdam:20190908T150000
DTSTAMP:20260419T190146
CREATED:20190710T151100Z
LAST-MODIFIED:20190914T093555Z
UID:975-1567951200-1567954800@vioolles.info
SUMMARY:Optreden op het UIT festival\, Lange Voorhout
DESCRIPTION:  \n \nLAATSTE NIEUWS : Het KOO  blijkt stand 95 te zijn en staat als het ware tegenover de plek van vorig jaar . Begin van Korte Voorhout achter het vrijmetselarij monument \nWe treffen om twee uur elkaar  ter hoogte van Hotel des Indes\, in de buurt van de Oivaarspas tent\,  bij de stand van het KOO (waardoor ik Ooievaarspas korting kan geven aan kinderen) en spelen van allerlei. Warm aanbevolen. Vanaf groep 2 \nAfzeggen hoeft niet bij dit soort happenings buiten de officiële Suzuki Concerten en Gypsy Academy optredens. Aanmelden graag wel – via de groepsapp – \n 
URL:https://vioolles.info/event/optreden-op-het-uit-festival-lange-voorhout/
CATEGORIES:Graag meedoen,Jaar 2 en hoger,Warm aanbevolen
ATTACH;FMTTYPE=image/jpeg:https://vioolles.info/wp-content/uploads/2019/06/IMG_0486.jpeg
END:VEVENT
BEGIN:VEVENT
DTSTART;TZID=Europe/Amsterdam:20220521T093000
DTEND;TZID=Europe/Amsterdam:20220521T170000
DTSTAMP:20260419T190146
CREATED:20190821T132436Z
LAST-MODIFIED:20220324T094908Z
UID:5010-1653125400-1653152400@vioolles.info
SUMMARY:Mini workshop groep  3\, 2 en 1
DESCRIPTION:Om 10 uur  komt groep 3 en om 12 uur komen groep 1 en 2 erbij
URL:https://vioolles.info/event/mini-workshop-groep-2-en-1/
CATEGORIES:Jaar 2 en hoger
ATTACH;FMTTYPE=image/jpeg:https://vioolles.info/wp-content/uploads/2019/06/IMG_3468.jpeg
END:VEVENT
BEGIN:VEVENT
DTSTART;TZID=Europe/Amsterdam:20220901T160000
DTEND;TZID=Europe/Amsterdam:20220901T170000
DTSTAMP:20260419T190146
CREATED:20190710T150804Z
LAST-MODIFIED:20220324T093035Z
UID:971-1662048000-1662051600@vioolles.info
SUMMARY:Eerste les met een viool voor de nieuwe kinderen
DESCRIPTION:  \nEindelijk – we beginnen nu echt met vioolspelen! Op een viool met de juiste maat – opgemeten op de boulevard jl maandag. (en nu maar goed studeren thuis…..)
URL:https://vioolles.info/event/eerste-les-met-een-viool-voor-de-nieuwe-kinderen/
CATEGORIES:AFMELDEN per email ALS HET ECHT NIET KAN,Jaar 2 en hoger
ATTACH;FMTTYPE=image/jpeg:https://vioolles.info/wp-content/uploads/2019/08/IMG_5975.jpg
END:VEVENT
BEGIN:VEVENT
DTSTART;TZID=Europe/Amsterdam:20221002T100000
DTEND;TZID=Europe/Amsterdam:20221002T150000
DTSTAMP:20260419T190146
CREATED:20190724T201101Z
LAST-MODIFIED:20220324T091933Z
UID:4369-1664704800-1664722800@vioolles.info
SUMMARY:Gypsy Mini Workshop
DESCRIPTION:Samen met Herr Schaefer bouwen we op maandag en donderdag  jaarlijks drie keer gedurende twee weken de Gypsy  & Folk Academy verder uit. Elke keer  zijn er uitdagender partijen voor elke groep. \nTussen de eerste en tweede week is er een Gypsy Academy mini-workshop \nTijden : \nWaarschijnlijk groep 3 om 10.30 uur \nen groep 4 om 12 – 13.15 uur \nOm 13.30: oud leerlingen \nNa elke sessie van 5 kwartier is er een potluck 🙂 Graag ouderhulp bij het opruimen…..
URL:https://vioolles.info/event/gypsy-periode-i/
CATEGORIES:Jaar 2 en hoger
ATTACH;FMTTYPE=image/jpeg:https://vioolles.info/wp-content/uploads/2019/06/IMG_0486.jpeg
END:VEVENT
END:VCALENDAR